Workbook

Sheet TITLE PAGE
B2: Water Resources Planning Tables 2019
B4: v15 - June 2018
B5: All queries on the content of this workbook should be sent to:
B6: water-company-plan@environment-agency.gov.uk
B8: Water resource zone information
B9: Company: | D9: Dŵr Cymru Welsh Water
B10: Resource Zone Name: | D10: Lleyn Harlech | L10: Data validation: Cell D20
B11: Resource Zone Number: | D11: 8034 | L11: Dry Year Annual Average
B12: Planning Scenario Name: | D12: Dry Year Annual Average | E12: =IF(D12="Dry Year Annual Average","DYAA ",IF(D12="dry year critical period","DYCP ",0)) -> DYAA | F12: =IF(D12="Dry Year Annual Average","Normal Year Annual Average ",IF(D12="dry year critical period","Normal Year Critical Period ",0)) -> Normal Year Annual Average | L12: Dry Year Critical Period
B13: Chosen Level of Service: | D13: 1 in 20 | L13: Dry Year Annual Average - benchmarking data
B14: Base Year: | D14: 2015-16 | L14: Dry Year Critical Period - benchmarking data
B15: Responsible Officer: | D15: Ian Brown | E15: Signed: | H15: Dated: | I15: 43545
B17: Version: | D17: DryYr_LleynHarlech_FinalPlan_Version6 | F17: [Digital signature is acceptable]
B19: Key to cells
C21: Clear cells - indicate an input is required
C23: Yellow shaded cells - indicates a formula.
C25: Blue shaded cells - indicate base year data.
C27: Light grey shaded cells - indicate preceding years.
C29: Dark grey cells - indicate that no data entry is required.
B31: Worksheet | D31: Content
B32: WRZ summary | D32: Supply-Demand Balance and components
B33: 1. BL Licences | D33: Baseline water resources
B34: 2. BL Supply | D34: Baseline water supplies
B35: 3. BL Demand | D35: Baseline demand
B36: 4. BL SDB | D36: Baseline supply demand balance
B37: 5. Feasible options | D37: Fixed and Variable costs, Net Present Value, AIC and AISC of all feasible options (confidential)
B38: 6. Preferred options | D38: High level costs of preferred options (Dry Year) - publicly available
B39: 7. FP Supply | D39: Final Planning water supplies (impact of Scenario options)
B40: 8. FP Demand | D40: Final Planning demand (impact of Scenario options)
B41: 9. FP SDB | D41: Final Planning supply demand balance
B42: 10. Drought plan links | D42: Drought plan links

Sheet WRZ summary
A2: Summary graphs of water resources planning tables data
A3: ='TITLE PAGE'!D9 -> Dŵr Cymru Welsh Water
A4: ='TITLE PAGE'!D10 -> Lleyn Harlech
A5: DERIVATION | B5: DESCRIPTION | C5: UNITS | E5: For info 2017-18 | F5: For info 2018-19 | G5: For info 2019-20 | H5: 2020-21 | I5: 2021-22 | J5: 2022-23 | K5: 2023-24 | L5: 2024-25 | M5: 2025-26 | N5: 2026-27 | O5: 2027-28 | P5: 2028-29 | Q5: 2029-30 | R5: 2030-31 | S5: 2031-32 | T5: 2032-33 | U5: 2033-34 | V5: 2034-35 | W5: 2035-36 | X5: 2036-37 | Y5: 2037-38 | Z5: 2038-39 | AA5: 2039-40 | AB5: 2040-41 | AC5: 2041-42 | AD5: 2042-43 | AE5: 2043-44 | AF5: 2044-45 | AG5: 2045-46 | AH5: 2046-47 | AI5: 2047-48 | AJ5: 2048-49 | AK5: 2049-50
B6: SUPPLY
A7: 13BL | B7: Total water available for use | C7: Ml/d | D7: ='4. BL SDB'!H5 -> 16.77906 | E7: ='4. BL SDB'!I5 -> 15.807661 | F7: ='4. BL SDB'!J5 -> 15.769353 | G7: ='4. BL SDB'!K5 -> 15.734286 | H7: ='4. BL SDB'!L5 -> 15.712157 | I7: ='4. BL SDB'!M5 -> 15.689468 | J7: ='4. BL SDB'!N5 -> 15.674239 | K7: ='4. BL SDB'!O5 -> 15.656861 | ... AK7: ='4. BL SDB'!AO5 -> 15.573489
A8: 13FP | B8: Total water available for use | C8: Ml/d | D8: ='9. FP SDB'!H5 -> 16.77906 | E8: ='9. FP SDB'!I5 -> 15.807661 | F8: ='9. FP SDB'!J5 -> 15.769353 | G8: ='9. FP SDB'!K5 -> 15.734286 | H8: ='9. FP SDB'!L5 -> 15.712157 | I8: ='9. FP SDB'!M5 -> 15.689468 | J8: ='9. FP SDB'!N5 -> 15.674239 | K8: ='9. FP SDB'!O5 -> 15.656861 | ... AK8: ='9. FP SDB'!AO5 -> 15.573489
B9: DEMAND
A10: 26BL | B10: Unmeasured household consumption | C10: Ml/d | D10: ='3. BL Demand'!H10 -> 3.680556 | E10: ='3. BL Demand'!I10 -> 3.6066231 | F10: ='3. BL Demand'!J10 -> 3.5514867 | G10: ='3. BL Demand'!K10 -> 3.4965493 | H10: ='3. BL Demand'!L10 -> 3.4180381 | I10: ='3. BL Demand'!M10 -> 3.3184265 | J10: ='3. BL Demand'!N10 -> 3.2420431 | K10: ='3. BL Demand'!O10 -> 3.1455735 | ... AK10: ='3. BL Demand'!AO10 -> 1.3594725
A11: 26FP | B11: Unmeasured household consumption | C11: Ml/d | D11: ='8. FP Demand'!H10 -> 3.680556 | E11: ='8. FP Demand'!I10 -> 3.6066231 | F11: ='8. FP Demand'!J10 -> 3.5514867 | G11: ='8. FP Demand'!K10 -> 3.4965493 | H11: ='8. FP Demand'!L10 -> 3.4180381 | I11: ='8. FP Demand'!M10 -> 3.3184265 | J11: ='8. FP Demand'!N10 -> 3.2420431 | K11: ='8. FP Demand'!O10 -> 3.1455735 | ... AK11: ='8. FP Demand'!AO10 -> 1.3594725
A12: 25BL | B12: Measured household consumption | C12: Ml/d | D12: ='3. BL Demand'!H9 -> 1.1885987 | E12: ='3. BL Demand'!I9 -> 1.3554107 | F12: ='3. BL Demand'!J9 -> 1.413716 | G12: ='3. BL Demand'!K9 -> 1.4718689 | H12: ='3. BL Demand'!L9 -> 1.5188797 | I12: ='3. BL Demand'!M9 -> 1.5527566 | J12: ='3. BL Demand'!N9 -> 1.5958719 | K12: ='3. BL Demand'!O9 -> 1.6251285 | ... AK12: ='3. BL Demand'!AO9 -> 1.843531
A13: 25FP | B13: Measured household consumption | C13: Ml/d | D13: ='8. FP Demand'!H9 -> 1.1885987 | E13: ='8. FP Demand'!I9 -> 1.3554107 | F13: ='8. FP Demand'!J9 -> 1.413716 | G13: ='8. FP Demand'!K9 -> 1.4718689 | H13: ='8. FP Demand'!L9 -> 1.5188797 | I13: ='8. FP Demand'!M9 -> 1.5527566 | J13: ='8. FP Demand'!N9 -> 1.5958719 | K13: ='8. FP Demand'!O9 -> 1.6251285 | ... AK13: ='8. FP Demand'!AO9 -> 1.843531
A14: 23BL+24BL | B14: Non-household consumption | C14: Ml/d | D14: ='3. BL Demand'!H7+'3. BL Demand'!H8 -> 3.6705536 | E14: ='3. BL Demand'!I7+'3. BL Demand'!I8 -> 3.6827538 | F14: ='3. BL Demand'!J7+'3. BL Demand'!J8 -> 3.6888677 | G14: ='3. BL Demand'!K7+'3. BL Demand'!K8 -> 3.6886764 | H14: ='3. BL Demand'!L7+'3. BL Demand'!L8 -> 3.6935468 | I14: ='3. BL Demand'!M7+'3. BL Demand'!M8 -> 3.7082789 | J14: ='3. BL Demand'!N7+'3. BL Demand'!N8 -> 3.675502 | K14: ='3. BL Demand'!O7+'3. BL Demand'!O8 -> 3.6676946 | ... AK14: ='3. BL Demand'!AO7+'3. BL Demand'!AO8 -> 3.5105721
A15: 23FP+24FP | B15: Non-household consumption | C15: Ml/d | D15: ='8. FP Demand'!H7+'8. FP Demand'!H8 -> 3.6705536 | E15: ='8. FP Demand'!I7+'8. FP Demand'!I8 -> 3.6827538 | F15: ='8. FP Demand'!J7+'8. FP Demand'!J8 -> 3.6888677 | G15: ='8. FP Demand'!K7+'8. FP Demand'!K8 -> 3.6886764 | H15: ='8. FP Demand'!L7+'8. FP Demand'!L8 -> 3.6935468 | I15: ='8. FP Demand'!M7+'8. FP Demand'!M8 -> 3.7082789 | J15: ='8. FP Demand'!N7+'8. FP Demand'!N8 -> 3.675502 | K15: ='8. FP Demand'!O7+'8. FP Demand'!O8 -> 3.6676946 | ... AK15: ='8. FP Demand'!AO7+'8. FP Demand'!AO8 -> 3.5105721
A16: 40BL | B16: Total leakage | C16: Ml/d | D16: ='3. BL Demand'!H36 -> 2.9464576 | E16: ='3. BL Demand'!I36 -> 3.0650032 | F16: ='3. BL Demand'!J36 -> 3.0650032 | G16: ='3. BL Demand'!K36 -> 3.0490046 | H16: ='3. BL Demand'!L36 -> 2.9317923 | I16: ='3. BL Demand'!M36 -> 2.81458 | J16: ='3. BL Demand'!N36 -> 2.6973677 | K16: ='3. BL Demand'!O36 -> 2.5801553 | ... AK16: ='3. BL Demand'!AO36 -> 1.2917533
A17: 40FP | B17: Total leakage | C17: Ml/d | D17: ='8. FP Demand'!H36 -> 2.9464576 | E17: ='8. FP Demand'!I36 -> 3.0650032 | F17: ='8. FP Demand'!J36 -> 3.0650032 | G17: ='8. FP Demand'!K36 -> 3.0490046 | H17: ='8. FP Demand'!L36 -> 2.9317923 | I17: ='8. FP Demand'!M36 -> 2.81458 | J17: ='8. FP Demand'!N36 -> 2.6973677 | K17: ='8. FP Demand'!O36 -> 2.5801553 | ... AK17: ='8. FP Demand'!AO36 -> 1.2917533
A18: 11BL-(23BL:26BL)-40BL | B18: Other components of demand | C18: Ml/d | D18: ='4. BL SDB'!H3-('3. BL Demand'!H7+'3. BL Demand'!H8+'3. BL Demand'!H9+'3. BL Demand'!H10)-'3. BL Demand'!H36 -> 0.27601719 | E18: ='4. BL SDB'!I3-('3. BL Demand'!I7+'3. BL Demand'!I8+'3. BL Demand'!I9+'3. BL Demand'!I10)-'3. BL Demand'!I36 -> 0.27724986 | F18: ='4. BL SDB'!J3-('3. BL Demand'!J7+'3. BL Demand'!J8+'3. BL Demand'!J9+'3. BL Demand'!J10)-'3. BL Demand'!J36 -> 0.27803624 | G18: ='4. BL SDB'!K3-('3. BL Demand'!K7+'3. BL Demand'!K8+'3. BL Demand'!K9+'3. BL Demand'!K10)-'3. BL Demand'!K36 -> 0.27884419 | H18: ='4. BL SDB'!L3-('3. BL Demand'!L7+'3. BL Demand'!L8+'3. BL Demand'!L9+'3. BL Demand'!L10)-'3. BL Demand'!L36 -> 0.27973075 | I18: ='4. BL SDB'!M3-('3. BL Demand'!M7+'3. BL Demand'!M8+'3. BL Demand'!M9+'3. BL Demand'!M10)-'3. BL Demand'!M36 -> 0.28059258 | J18: ='4. BL SDB'!N3-('3. BL Demand'!N7+'3. BL Demand'!N8+'3. BL Demand'!N9+'3. BL Demand'!N10)-'3. BL Demand'!N36 -> 0.2814403 | K18: ='4. BL SDB'!O3-('3. BL Demand'!O7+'3. BL Demand'!O8+'3. BL Demand'!O9+'3. BL Demand'!O10)-'3. BL Demand'!O36 -> 0.28226139 | ... AK18: ='4. BL SDB'!AO3-('3. BL Demand'!AO7+'3. BL Demand'!AO8+'3. BL Demand'!AO9+'3. BL Demand'!AO10)-'3. BL Demand'!AO36 -> 0.3034822
A19: 11FP-(23FP:26FP)-40FP | B19: Other components of demand | C19: Ml/d | D19: ='9. FP SDB'!H3-('8. FP Demand'!H7+'8. FP Demand'!H8+'8. FP Demand'!H9+'8. FP Demand'!H10)-'8. FP Demand'!H36 -> 0.27601719 | E19: ='9. FP SDB'!I3-('8. FP Demand'!I7+'8. FP Demand'!I8+'8. FP Demand'!I9+'8. FP Demand'!I10)-'8. FP Demand'!I36 -> 0.27724986 | F19: ='9. FP SDB'!J3-('8. FP Demand'!J7+'8. FP Demand'!J8+'8. FP Demand'!J9+'8. FP Demand'!J10)-'8. FP Demand'!J36 -> 0.27803624 | G19: ='9. FP SDB'!K3-('8. FP Demand'!K7+'8. FP Demand'!K8+'8. FP Demand'!K9+'8. FP Demand'!K10)-'8. FP Demand'!K36 -> 0.27884419 | H19: ='9. FP SDB'!L3-('8. FP Demand'!L7+'8. FP Demand'!L8+'8. FP Demand'!L9+'8. FP Demand'!L10)-'8. FP Demand'!L36 -> 0.27973075 | I19: ='9. FP SDB'!M3-('8. FP Demand'!M7+'8. FP Demand'!M8+'8. FP Demand'!M9+'8. FP Demand'!M10)-'8. FP Demand'!M36 -> 0.28059258 | J19: ='9. FP SDB'!N3-('8. FP Demand'!N7+'8. FP Demand'!N8+'8. FP Demand'!N9+'8. FP Demand'!N10)-'8. FP Demand'!N36 -> 0.2814403 | K19: ='9. FP SDB'!O3-('8. FP Demand'!O7+'8. FP Demand'!O8+'8. FP Demand'!O9+'8. FP Demand'!O10)-'8. FP Demand'!O36 -> 0.28226139 | ... AK19: ='9. FP SDB'!AO3-('8. FP Demand'!AO7+'8. FP Demand'!AO8+'8. FP Demand'!AO9+'8. FP Demand'!AO10)-'8. FP Demand'!AO36 -> 0.3034822
B20: Total demand + target headroom (baseline) | C20: Ml/d | D20: =D18+D16+D14+D12+D10+D23 -> 12.464012 | E20: =E18+E16+E14+E12+E10+E23 -> 12.780871 | F20: =F18+F16+F14+F12+F10+F23 -> 12.872486 | G20: =G18+G16+G14+G12+G10+G23 -> 12.950298 | H20: =H18+H16+H14+H12+H10+H23 -> 12.88948 | I20: =I18+I16+I14+I12+I10+I23 -> 12.810417 | J20: =J18+J16+J14+J12+J10+J23 -> 12.707077 | K20: =K18+K16+K14+K12+K10+K23 -> 12.592155 | ... AK20: =AK18+AK16+AK14+AK12+AK10+AK23 -> 10.422374
B21: Total demand + target headroom (final plan) | C21: Ml/d | D21: =D11+D13+D15+D17+D19+D24 -> 12.464012 | E21: =E11+E13+E15+E17+E19+E24 -> 12.780871 | F21: =F11+F13+F15+F17+F19+F24 -> 12.872486 | G21: =G11+G13+G15+G17+G19+G24 -> 12.950298 | H21: =H11+H13+H15+H17+H19+H24 -> 12.88948 | I21: =I11+I13+I15+I17+I19+I24 -> 12.810417 | J21: =J11+J13+J15+J17+J19+J24 -> 12.707077 | K21: =K11+K13+K15+K17+K19+K24 -> 12.592155 | ... AK21: =AK11+AK13+AK15+AK17+AK19+AK24 -> 10.422374
B22: SUPPLY-DEMAND BALANCE
A23: 16BL | B23: Target headroom | C23: Ml/d | D23: ='4. BL SDB'!H8 -> 0.70182863 | E23: ='4. BL SDB'!I8 -> 0.79383057 | F23: ='4. BL SDB'!J8 -> 0.87537625 | G23: ='4. BL SDB'!K8 -> 0.96535481 | H23: ='4. BL SDB'!L8 -> 1.0474929 | I23: ='4. BL SDB'!M8 -> 1.1357821 | J23: ='4. BL SDB'!N8 -> 1.2148523 | K23: ='4. BL SDB'!O8 -> 1.2913416 | ... AK23: ='4. BL SDB'!AO8 -> 2.1135634
A24: 16FP | B24: Target headroom | C24: Ml/d | D24: ='9. FP SDB'!H8 -> 0.70182863 | E24: ='9. FP SDB'!I8 -> 0.79383057 | F24: ='9. FP SDB'!J8 -> 0.87537625 | G24: ='9. FP SDB'!K8 -> 0.96535481 | H24: ='9. FP SDB'!L8 -> 1.0474929 | I24: ='9. FP SDB'!M8 -> 1.1357821 | J24: ='9. FP SDB'!N8 -> 1.2148523 | K24: ='9. FP SDB'!O8 -> 1.2913416 | ... AK24: ='9. FP SDB'!AO8 -> 2.1135634
A25: 17BL | B25: Available headroom | C25: Ml/d | D25: ='4. BL SDB'!H9 -> 5.0168774 | E25: ='4. BL SDB'!I9 -> 3.8206207 | F25: ='4. BL SDB'!J9 -> 3.7722433 | G25: ='4. BL SDB'!K9 -> 3.7493422 | H25: ='4. BL SDB'!L9 -> 3.8701697 | I25: ='4. BL SDB'!M9 -> 4.0148338 | J25: ='4. BL SDB'!N9 -> 4.1820143 | K25: ='4. BL SDB'!O9 -> 4.3560479 | ... AK25: ='4. BL SDB'!AO9 -> 7.264678
A26: 17FP | B26: Available headroom | C26: Ml/d | D26: ='9. FP SDB'!H9 -> 5.0168774 | E26: ='9. FP SDB'!I9 -> 3.8206207 | F26: ='9. FP SDB'!J9 -> 3.7722433 | G26: ='9. FP SDB'!K9 -> 3.7493422 | H26: ='9. FP SDB'!L9 -> 3.8701697 | I26: ='9. FP SDB'!M9 -> 4.0148338 | J26: ='9. FP SDB'!N9 -> 4.1820143 | K26: ='9. FP SDB'!O9 -> 4.3560479 | ... AK26: ='9. FP SDB'!AO9 -> 7.264678
A29: Baseline Supply-Demand Balance:
C30: =H5 -> 2020-21 | D30: =I5 -> 2021-22 | E30: =J5 -> 2022-23 | F30: =K5 -> 2023-24 | G30: =L5 -> 2024-25 | H30: =M5 -> 2025-26 | I30: =N5 -> 2026-27 | J30: =O5 -> 2027-28 | ... AF30: =AK5 -> 2049-50
B31: SDB (Ml/d) | C31: ='4. BL SDB'!L10 -> 2.8226768 | D31: ='4. BL SDB'!M10 -> 2.8790518 | E31: ='4. BL SDB'!N10 -> 2.967162 | F31: ='4. BL SDB'!O10 -> 3.0647063 | G31: ='4. BL SDB'!P10 -> 3.117848 | H31: ='4. BL SDB'!Q10 -> 3.268468 | I31: ='4. BL SDB'!R10 -> 3.2728431 | J31: ='4. BL SDB'!S10 -> 3.2378108 | ... AF31: ='4. BL SDB'!AO10 -> 5.1511146
A64: Final Planning Supply-Demand Balance:
C65: =H5 -> 2020-21 | D65: =I5 -> 2021-22 | E65: =J5 -> 2022-23 | F65: =K5 -> 2023-24 | G65: =L5 -> 2024-25 | H65: =M5 -> 2025-26 | I65: =N5 -> 2026-27 | J65: =O5 -> 2027-28 | ... AF65: =AK5 -> 2049-50
B66: SDB (Ml/d) | C66: ='9. FP SDB'!L10 -> 2.8226768 | D66: ='9. FP SDB'!M10 -> 2.8790518 | E66: ='9. FP SDB'!N10 -> 2.967162 | F66: ='9. FP SDB'!O10 -> 3.0647063 | G66: ='9. FP SDB'!P10 -> 3.117848 | H66: ='9. FP SDB'!Q10 -> 3.268468 | I66: ='9. FP SDB'!R10 -> 3.2728431 | J66: ='9. FP SDB'!S10 -> 3.2378108 | ... AF66: ='9. FP SDB'!AO10 -> 5.1511146
B102: Company: | I102: ='TITLE PAGE'!D9 -> Dŵr Cymru Welsh Water
B103: Resource Zone Name | I103: ='TITLE PAGE'!D10 -> Lleyn Harlech
B104: Resource Zone Number: | I104: ='TITLE PAGE'!D11 -> 8034
B105: Planning Scenario Name: | I105: ='TITLE PAGE'!D12 -> Dry Year Annual Average
B106: Chosen Level of Service: | I106: ='TITLE PAGE'!D13 -> 1 in 20

Sheet 1. BL Licences
C1: Table 1: Baseline licences | H1: deployable output (Ml/d)
C2: Row ref | D2: Derivation | E2: Licence number | F2: Source name | G2: Source type | H2: Deployable output (Ml/d) | I2: Annual licensed quantity (Ml/d) | J2: Constraints on deployable output | K2: Additional notes (if desired)
C3: All individual licences:
C4: 0.1BL | D4: Sum (0.1BL+...) | E4: - | F4: - | G4: - | H4: =SUM(H5:H9) -> 4.1735398 | I4: =SUM(I5:I9) -> 6.8272329 | J4: -
C5: - | D5: Input | E5: 23/65/14/0002 | F5: LLYN CWM DULYN | G5: SW:Reservoir | H5: 1.667419 | I5: 2.2812329 | J5: Garndolbenmaen WTW capacity. | K5: 0
D6: Input | E6: 23/64/16/0008 | F6: LLYN EIDDEW MAWR RESERVOIR, TALSARNAU, G | G6: SW:Reservoir | H6: 1.0383927 | I6: 2.273 | J6: Garndolbenmaen WTW capacity. | K6: 0
D7: Input | E7: 23/65/3/0001 | F7: Llyn Tecwyn Uchaf & Tallin Stream near Llandecwyn | G7: SW:Reservoir | H7: 1.4677281 | I7: 2.273 | J7: Garndolbenmaen WTW capacity. | K7: 0
D9: Input
C10: Grouped licences | D10: Derivation | E10: Licence number | F10: Source name | G10: Source type | H10: DYAA deployable output (Ml/d) | I10: Annual licensed quantity (Ml/d)
C11: 0.2BL | D11: Sum (0.2BL+...) | E11: - | F11: Total | G11: - | H11: =SUM(H13:H18) -> 13.26946 | I11: - | J11: -
C12: - | D12: - | E12: Group #: 1 | G12: - | H12: =SUM(H13:H17) -> 13.26946 | I12: - | J12: -
C13: - | D13: Input | E13: 23/65/8/0016 | F13: AFON DWYFOR, GARNDOLBENMAEN | G13: SW:River | H13: 5.3017934 | I13: 6.3287671 | J13: Garndolbenmaen WTW capacity. | K13: 0
C14: - | D14: Input | E14: 23/65/8/0019 | F14: CWMYSTRADLLYN RESERVOIR | G14: SW:Reservoir | H14: 7.9676669 | I14: 12.305205 | J14: Garndolbenmaen WTW capacity. | K14: 0
C15: - | D15: Input
C16: - | D16: Input
C17: - | D17: Input
C18: Unused licences: | D18: Derivation | E18: Licence number | F18: Source name | G18: Source type | H18: DYAA deployable output (Ml/d) | I18: Annual licensed quantity (Ml/d) | J18: Reason licence is unused
C19: 0.3BL | D19: Sum (0.3BL+...) | E19: - | F19: - | G19: - | H19: =SUM(H20:H22) -> 0 | I19: =SUM(I20:I22) -> 0 | J19: -
D20: Input
D21: Input
C22: - | D22: Input
C23: New licences (within current AMP): | D23: Derivation | E23: Licence number | F23: Source name | G23: Source type | H23: DYAA deployable output (Ml/d) | I23: Annual licensed quantity (Ml/d) | J23: Status of licence
C24: 0.4BL | D24: Sum (0.4BL+...) | E24: - | F24: - | G24: - | H24: =SUM(H25:H26) -> 0 | I24: =SUM(I25:I26) -> 0 | J24: -
D25: Input
C26: - | D26: Input
C27: - | D27: - | E27: - | F27: - | G27: - | H27: - | I27: - | J27: -
C28: Company: | E28: ='TITLE PAGE'!D9 -> Dŵr Cymru Welsh Water
C29: Resource Zone Name: | E29: ='TITLE PAGE'!D10 -> Lleyn Harlech
C30: Resource Zone Number: | E30: ='TITLE PAGE'!D11 -> 8034
C31: Planning Scenario Name: | E31: ='TITLE PAGE'!D12 -> Dry Year Annual Average
C32: Chosen Level of Service: | E32: ='TITLE PAGE'!D13 -> 1 in 20
C35: README

Sheet 2. BL Supply
C1: Table 2: Baseline supply
C2: Row ref | D2: Component | E2: Derivation | F2: Unit | G2: decimal places | H2: ='TITLE PAGE'!D14 -> 2015-16 | I2: ='WRZ summary'!E5 -> For info 2017-18 | J2: ='WRZ summary'!F5 -> For info 2018-19 | K2: ='WRZ summary'!G5 -> For info 2019-20 | L2: ='WRZ summary'!H5 -> 2020-21 | M2: ='WRZ summary'!I5 -> 2021-22 | N2: ='WRZ summary'!J5 -> 2022-23 | O2: ='WRZ summary'!K5 -> 2023-24 | P2: ='WRZ summary'!L5 -> 2024-25 | ... AO2: ='WRZ summary'!AK5 -> 2049-50
C3: 1BL | D3: Raw water abstracted | E3: Input | F3: Ml/d | G3: 2 | H3: 12.123107 | I3: ='4. BL SDB'!I3+I25+I10+I24-I7-I4 -> 13.244392 | J3: ='4. BL SDB'!J3+J25+J10+J24-J7-J4 -> 13.253022 | K3: ='4. BL SDB'!K3+K25+K10+K24-K7-K4 -> 13.239416 | L3: ='4. BL SDB'!L3+L25+L10+L24-L7-L4 -> 13.095022 | M3: ='4. BL SDB'!M3+M25+M10+M24-M7-M4 -> 12.92623 | N3: ='4. BL SDB'!N3+N25+N10+N24-N7-N4 -> 12.742381 | O3: ='4. BL SDB'!O3+O25+O10+O24-O7-O4 -> 12.54953 | P3: ='4. BL SDB'!P3+P25+P10+P24-P7-P4 -> 12.390172 | ... AO3: ='4. BL SDB'!AO3+AO25+AO10+AO24-AO7-AO4 -> 9.5409799
B4: Resources | C4: 2BL | D4: Total raw water imported | E4: sum(2.1BL+2.2BL+2.3BL...) | F4: Ml/d | G4: 2 | H4: =SUM(H5:H6) -> 0 | I4: =SUM(I5:I6) -> 0 | J4: =SUM(J5:J6) -> 0 | K4: =SUM(K5:K6) -> 0 | L4: =SUM(L5:L6) -> 0 | M4: =SUM(M5:M6) -> 0 | N4: =SUM(N5:N6) -> 0 | O4: =SUM(O5:O6) -> 0 | ... AO4: =SUM(AO5:AO6) -> 0
C5: 2.1BL+ | D5: Raw water imported from: None | E5: Input | F5: Ml/d | G5: 2 | H5: 0 | I5: 0 | J5: 0 | K5: 0 | L5: 0 | M5: 0 | N5: 0 | O5: 0 | P5: 0 | Q5: 0 | R5: 0 | S5: 0 | T5: 0 | U5: 0 | V5: 0 | W5: 0 | X5: 0 | Y5: 0 | Z5: 0 | AA5: 0 | AB5: 0 | AC5: 0 | AD5: 0 | AE5: 0 | AF5: 0 | AG5: 0 | AH5: 0 | AI5: 0 | AJ5: 0 | AK5: 0 | AL5: 0 | AM5: 0 | AN5: 0 | AO5: 0
C6: - | D6: - | E6: - | F6: - | G6: 2 | H6: - | I6: - | J6: - | K6: - | L6: - | M6: - | N6: - | O6: - | P6: - | Q6: - | R6: - | S6: - | T6: - | U6: - | V6: - | W6: - | X6: - | Y6: - | Z6: - | AA6: - | AB6: - | AC6: - | AD6: - | AE6: - | AF6: - | AG6: - | AH6: - | AI6: - | AJ6: - | AK6: - | AL6: - | AM6: - | AN6: - | AO6: -
C7: 3BL | D7: Total potable water imported | E7: sum(3.1BL+3.2BL+3.3BL...) | F7: Ml/d | G7: 2 | H7: =SUM(H8:H9) -> 0.27561489 | I7: =SUM(I8:I9) -> 0 | J7: =SUM(J8:J9) -> 0 | K7: =SUM(K8:K9) -> 0 | L7: =SUM(L8:L9) -> 0 | M7: =SUM(M8:M9) -> 0 | N7: =SUM(N8:N9) -> 0 | O7: =SUM(O8:O9) -> 0 | ... AO7: =SUM(AO8:AO9) -> 0
C8: 3.1BL+ | D8: Potable water imported from: None | E8: Input | F8: Ml/d | G8: 2 | H8: 0.27561489 | I8: 0 | J8: 0 | K8: 0 | L8: 0 | M8: 0 | N8: 0 | O8: 0 | P8: 0 | Q8: 0 | R8: 0 | S8: 0 | T8: 0 | U8: 0 | V8: 0 | W8: 0 | X8: 0 | Y8: 0 | Z8: 0 | AA8: 0 | AB8: 0 | AC8: 0 | AD8: 0 | AE8: 0 | AF8: 0 | AG8: 0 | AH8: 0 | AI8: 0 | AJ8: 0 | AK8: 0 | AL8: 0 | AM8: 0 | AN8: 0 | AO8: 0
C9: - | D9: - | E9: - | F9: - | G9: 2 | H9: - | I9: - | J9: - | K9: - | L9: - | M9: - | N9: - | O9: - | P9: - | Q9: - | R9: - | S9: - | T9: - | U9: - | V9: - | W9: - | X9: - | Y9: - | Z9: - | AA9: - | AB9: - | AC9: - | AD9: - | AE9: - | AF9: - | AG9: - | AH9: - | AI9: - | AJ9: - | AK9: - | AL9: - | AM9: - | AN9: - | AO9: -
C10: 5BL | D10: Total raw water exported (raw exports and non potable uses) | E10: sum(5.1BL+5.2BL+...) | F10: Ml/d | G10: 2 | H10: =SUM(H11:H13) -> 0 | I10: =SUM(I11:I13) -> 0 | J10: =SUM(J11:J13) -> 0 | K10: =SUM(K11:K13) -> 0 | L10: =SUM(L11:L13) -> 0 | M10: =SUM(M11:M13) -> 0 | N10: =SUM(N11:N13) -> 0 | O10: =SUM(O11:O13) -> 0 | ... AO10: =SUM(AO11:AO13) -> 0
C11: 5.1BL | D11: Non potable water supplied to: | E11: Input | F11: Ml/d | G11: 2 | H11: 0 | I11: 0 | J11: 0 | K11: 0 | L11: 0 | M11: 0 | N11: 0 | O11: 0 | P11: 0 | Q11: 0 | R11: 0 | S11: 0 | T11: 0 | U11: 0 | V11: 0 | W11: 0 | X11: 0 | Y11: 0 | Z11: 0 | AA11: 0 | AB11: 0 | AC11: 0 | AD11: 0 | AE11: 0 | AF11: 0 | AG11: 0 | AH11: 0 | AI11: 0 | AJ11: 0 | AK11: 0 | AL11: 0 | AM11: 0 | AN11: 0 | AO11: 0
C12: 5.2BL+ | D12: Raw water export to: None | E12: Input | F12: Ml/d | G12: 2 | H12: 0 | I12: 0 | J12: 0 | K12: 0 | L12: 0 | M12: 0 | N12: 0 | O12: 0 | P12: 0 | Q12: 0 | R12: 0 | S12: 0 | T12: 0 | U12: 0 | V12: 0 | W12: 0 | X12: 0 | Y12: 0 | Z12: 0 | AA12: 0 | AB12: 0 | AC12: 0 | AD12: 0 | AE12: 0 | AF12: 0 | AG12: 0 | AH12: 0 | AI12: 0 | AJ12: 0 | AK12: 0 | AL12: 0 | AM12: 0 | AN12: 0 | AO12: 0
C13: - | E13: - | F13: - | G13: 2 | H13: - | I13: - | J13: - | K13: - | L13: - | M13: - | N13: - | O13: - | P13: - | Q13: - | R13: - | S13: - | T13: - | U13: - | V13: - | W13: - | X13: - | Y13: - | Z13: - | AA13: - | AB13: - | AC13: - | AD13: - | AE13: - | AF13: - | AG13: - | AH13: - | AI13: - | AJ13: - | AK13: - | AL13: - | AM13: - | AN13: - | AO13: -
C14: 6BL | D14: Total potable water exported | E14: sum(6.1BL+6.2BL+6.3BL...) | F14: Ml/d | G14: 2 | H14: =SUM(H15:H16) -> 0.33838462 | I14: =SUM(I15:I16) -> 0.34674703 | J14: =SUM(J15:J16) -> 0.35525347 | K14: =SUM(K15:K16) -> 0.36051932 | L14: =SUM(L15:L16) -> 0.352846 | M14: =SUM(M15:M16) -> 0.34573316 | N14: =SUM(N15:N16) -> 0.33116064 | O14: =SUM(O15:O16) -> 0.31873701 | ... AO14: =SUM(AO15:AO16) -> 0.059389763
C15: 6.1BL+ | D15: Potable water export to: Barmouth | E15: Input | F15: Ml/d | G15: 2 | H15: 0.33838462 | I15: 0.34674703 | J15: 0.35525347 | K15: 0.36051932 | L15: 0.352846 | M15: 0.34573316 | N15: 0.33116064 | O15: 0.31873701 | P15: 0.31140028 | Q15: 0.28840716 | R15: 0.28246719 | S15: 0.28157874 | T15: 0.27785905 | U15: 0.27240976 | V15: 0.24661707 | W15: 0.23507738 | X15: 0.22331933 | Y15: 0.21202297 | Z15: 0.20033477 | AA15: 0.17951122 | AB15: 0.17160001 | AC15: 0.16295243 | AD15: 0.15531268 | AE15: 0.14809442 | AF15: 0.1281841 | AG15: 0.12022771 | AH15: 0.11330718 | AI15: 0.10557482 | AJ15: 0.097326203 | AK15: 0.089594054 | AL15: 0.082840847 | AM15: 0.074806192 | AN15: 0.0671159 | AO15: 0.059389763
C16: - | E16: - | F16: Ml/d | G16: 2 | H16: - | I16: - | J16: - | K16: - | L16: - | M16: - | N16: - | O16: - | P16: - | Q16: - | R16: - | S16: - | T16: - | U16: - | V16: - | W16: - | X16: - | Y16: - | Z16: - | AA16: - | AB16: - | AC16: - | AD16: - | AE16: - | AF16: - | AG16: - | AH16: - | AI16: - | AJ16: - | AK16: - | AL16: - | AM16: - | AN16: - | AO16: -
C17: 7BL | D17: Deployable Output (baseline profile without reductions) | E17: sum(0.1Bl+0.2BL+0.3BL+0.4BL) | F17: Ml/d | G17: 2 | H17: =SUM('1. BL Licences'!H4,'1. BL Licences'!H11,'1. BL Licences'!H19,'1. BL Licences'!H24) -> 17.443 | I17: =L17 -> 17.443 | J17: =M17 -> 17.443 | K17: =N17 -> 17.443 | L17: =$H$17 -> 17.443 | M17: =$H$17 -> 17.443 | N17: =$H$17 -> 17.443 | O17: =$H$17 -> 17.443 | P17: =$H$17 -> 17.443 | Q17: =$H$17 -> 17.443 | R17: =$H$17 -> 17.443 | S17: =$H$17 -> 17.443 | ... AO17: =$H$17 -> 17.443
B18: Resource (and process) Losses | C18: 8BL | D18: Baseline forecast changes to Deployable Output | E18: sum(8.1BL+8.2BL+8.3BL) | F18: Ml/d | G18: 2 | H18: =H19+H20+H23 -> 0 | I18: =I19+I20+I23 -> -0.031240667 | J18: =J19+J20+J23 -> -0.062481333 | K18: =K19+K20+K23 -> -0.093722 | L18: =L19+L20+L23 -> -0.12496267 | M18: =M19+M20+M23 -> -0.15620333 | N18: =N19+N20+N23 -> -0.187444 | O18: =O19+O20+O23 -> -0.21868467 | ... AO18: =AO19+AO20+AO23 -> -0.57795233
C19: 8.1BL | D19: Change in DO due to climate change | E19: Input (reductions must be expressed as -ve) | F19: Ml/d | G19: 2 | H19: 0 | I19: -0.031240667 | J19: -0.062481333 | K19: -0.093722 | L19: -0.12496267 | M19: -0.15620333 | N19: -0.187444 | O19: -0.21868467 | P19: -0.24992533 | Q19: -0.281166 | R19: -0.31240667 | S19: -0.34364733 | T19: -0.374888 | U19: -0.40612867 | V19: -0.42955917 | W19: -0.43736933 | X19: -0.4451795 | Y19: -0.45298967 | Z19: -0.46079983 | AA19: -0.46861 | AB19: -0.47642017 | AC19: -0.48423033 | AD19: -0.4920405 | AE19: -0.49985067 | AF19: -0.50766083 | AG19: -0.515471 | AH19: -0.52328117 | AI19: -0.53109133 | AJ19: -0.5389015 | AK19: -0.54671167 | AL19: -0.55452183 | AM19: -0.562332 | AN19: -0.57014217 | AO19: -0.57795233
C20: 8.2BL | D20: Reductions to restore sustainable abstraction | E20: sum(8.2BL sub components) | F20: Ml/d | G20: 2 | H20: =SUM(H21:H22) -> 0 | I20: =SUM(I21:I22) -> 0 | J20: =SUM(J21:J22) -> 0 | K20: =SUM(K21:K22) -> 0 | L20: =SUM(L21:L22) -> 0 | M20: =SUM(M21:M22) -> 0 | N20: =SUM(N21:N22) -> 0 | O20: =SUM(O21:O22) -> 0 | ... AO20: =SUM(AO21:AO22) -> 0
C21: 8.2BL+ | D21: Total for the zone | E21: Input (zero or negative number) | F21: Ml/d | G21: 2 | H21: 0 | I21: 0 | J21: 0 | K21: 0 | L21: 0 | M21: 0 | N21: 0 | O21: 0 | P21: 0 | Q21: 0 | R21: 0 | S21: 0 | T21: 0 | U21: 0 | V21: 0 | W21: 0 | X21: 0 | Y21: 0 | Z21: 0 | AA21: 0 | AB21: 0 | AC21: 0 | AD21: 0 | AE21: 0 | AF21: 0 | AG21: 0 | AH21: 0 | AI21: 0 | AJ21: 0 | AK21: 0 | AL21: 0 | AM21: 0 | AN21: 0 | AO21: 0
C22: - | E22: - | F22: - | G22: 2 | H22: - | I22: - | J22: - | K22: - | L22: - | M22: - | N22: - | O22: - | P22: - | Q22: - | R22: - | S22: - | T22: - | U22: - | V22: - | W22: - | X22: - | Y22: - | Z22: - | AA22: - | AB22: - | AC22: - | AD22: - | AE22: - | AF22: - | AG22: - | AH22: - | AI22: - | AJ22: - | AK22: - | AL22: - | AM22: - | AN22: - | AO22: -
C23: 8.3BL | D23: Total other changes to DO (specify, e.g. nitrates): None | E23: Input (reductions must be expressed as -ve) | F23: Ml/d | G23: 2 | H23: 0 | I23: 0 | J23: 0 | K23: 0 | L23: 0 | M23: 0 | N23: 0 | O23: 0 | P23: 0 | Q23: 0 | R23: 0 | S23: 0 | T23: 0 | U23: 0 | V23: 0 | W23: 0 | X23: 0 | Y23: 0 | Z23: 0 | AA23: 0 | AB23: 0 | AC23: 0 | AD23: 0 | AE23: 0 | AF23: 0 | AG23: 0 | AH23: 0 | AI23: 0 | AJ23: 0 | AK23: 0 | AL23: 0 | AM23: 0 | AN23: 0 | AO23: 0
C24: 9BL | D24: Raw water losses, treatment works losses and operational use | E24: Input | F24: Ml/d | G24: 2 | H24: 0.39233481 | I24: 0.87355425 | J24: 0.87280298 | K24: 0.8720517 | L24: 0.87130043 | M24: 0.87054916 | N24: 0.86979788 | O24: 0.86904661 | P24: 0.86829533 | Q24: 0.86754406 | R24: 0.86679279 | S24: 0.86604151 | T24: 0.86529024 | U24: 0.86453897 | V24: 0.86397551 | W24: 0.86378769 | X24: 0.86359987 | Y24: 0.86341205 | Z24: 0.86322424 | AA24: 0.86303642 | AB24: 0.8628486 | AC24: 0.86266078 | AD24: 0.86247296 | AE24: 0.86228514 | AF24: 0.86209732 | AG24: 0.86190951 | AH24: 0.86172169 | AI24: 0.86153387 | AJ24: 0.86134605 | AK24: 0.86115823 | AL24: 0.86097041 | AM24: 0.8607826 | AN24: 0.86059478 | AO24: 0.86040696
C25: 10BL | D25: Outage allowance | E25: Input | F25: Ml/d | G25: 2 | H25: 0.208835 | I25: 0.38379678 | J25: 0.38310907 | K25: 0.38242136 | L25: 0.38173365 | M25: 0.38104593 | N25: 0.38035822 | O25: 0.37967051 | P25: 0.3789828 | Q25: 0.37829509 | R25: 0.37760738 | S25: 0.37691967 | T25: 0.37623196 | U25: 0.37554425 | V25: 0.37502847 | W25: 0.37485654 | X25: 0.37468461 | Y25: 0.37451269 | Z25: 0.37434076 | AA25: 0.37416883 | AB25: 0.3739969 | AC25: 0.37382497 | AD25: 0.37365305 | AE25: 0.37348112 | AF25: 0.37330919 | AG25: 0.37313726 | AH25: 0.37296534 | AI25: 0.37279341 | AJ25: 0.37262148 | AK25: 0.37244955 | AL25: 0.37227763 | AM25: 0.3721057 | AN25: 0.37193377 | AO25: 0.37176184
D28: ='TITLE PAGE'!B9 -> Company: | E28: ='TITLE PAGE'!D9 -> Dŵr Cymru Welsh Water
D29: ='TITLE PAGE'!B10 -> Resource Zone Name: | E29: ='TITLE PAGE'!D10 -> Lleyn Harlech
D30: ='TITLE PAGE'!B11 -> Resource Zone Number: | E30: ='TITLE PAGE'!D11 -> 8034
D31: ='TITLE PAGE'!B12 -> Planning Scenario Name: | E31: ='TITLE PAGE'!D12 -> Dry Year Annual Average
D32: ='TITLE PAGE'!B13 -> Chosen Level of Service: | E32: ='TITLE PAGE'!D13 -> 1 in 20

Sheet 3. BL Demand
C1: Table 3: Baseline demand
C2: Row ref | D2: Component | E2: Derivation | F2: Unit | G2: Decimal places | H2: 2015-16 | I2: ='WRZ summary'!E5 -> For info 2017-18 | J2: ='WRZ summary'!F5 -> For info 2018-19 | K2: ='WRZ summary'!G5 -> For info 2019-20 | L2: ='WRZ summary'!H5 -> 2020-21 | M2: ='WRZ summary'!I5 -> 2021-22 | N2: ='WRZ summary'!J5 -> 2022-23 | O2: ='WRZ summary'!K5 -> 2023-24 | P2: ='WRZ summary'!L5 -> 2024-25 | ... AO2: ='WRZ summary'!AK5 -> 2049-50
B3: Consumption | C3: 19BL | D3: Water delivered measured non-household | E3: Input | F3: Ml/d | G3: 2 | H3: 3.3061347 | I3: 3.3294431 | J3: 3.3408608 | K3: 3.3458114 | L3: 3.3556708 | M3: 3.375231 | N3: 3.3471377 | O3: 3.3438611 | P3: 3.3405122 | Q3: 3.3373288 | R3: 3.3342115 | S3: 3.3310253 | T3: 3.3279391 | U3: 3.3248494 | V3: 3.3217868 | W3: 3.3187211 | X3: 3.315651 | Y3: 3.312576 | Z3: 3.3094961 | AA3: 3.3065494 | AB3: 3.3035996 | AC3: 3.3006466 | AD3: 3.2976906 | AE3: 3.2947315 | AF3: 3.2917694 | AG3: 3.2888045 | AH3: 3.285837 | AI3: 3.2828671 | AJ3: 3.2798949 | AK3: 3.2769743 | AL3: 3.2740524 | AM3: 3.271129 | AN3: 3.2682038 | AO3: 3.265277
C4: 20BL | D4: Water delivered unmeasured non- household | E4: Input | F4: Ml/d | G4: 2 | H4: 0.42858177 | I4: 0.41715994 | J4: 0.41170147 | K4: 0.40640698 | L4: 0.40126812 | M4: 0.39629301 | N4: 0.3914656 | O4: 0.38679441 | P4: 0.3822655 | Q4: 0.37788035 | R4: 0.37363696 | S4: 0.36952363 | T4: 0.36554569 | U4: 0.36169339 | V4: 0.35796452 | W4: 0.35435363 | X4: 0.350857 | Y4: 0.34747102 | Z4: 0.34419222 | AA4: 0.34102122 | AB4: 0.33795078 | AC4: 0.33497772 | AD4: 0.33209897 | AE4: 0.32931153 | AF4: 0.32661253 | AG4: 0.32399917 | AH4: 0.32146875 | AI4: 0.31901862 | AJ4: 0.31664626 | AK4: 0.31434919 | AL4: 0.31212506 | AM4: 0.30997153 | AN4: 0.30788636 | AO4: 0.30586737
C5: 21BL | D5: Water delivered measured household | E5: Input | F5: Ml/d | G5: 2 | H5: 1.3568623 | I5: 1.5348223 | J5: 1.5987322 | K5: 1.6624388 | L5: 1.7150493 | M5: 1.7543974 | N5: 1.802887 | O5: 1.8373881 | P5: 1.8821954 | Q5: 1.9388362 | R5: 1.9816195 | S5: 2.0376821 | T5: 2.0789591 | U5: 2.1186574 | V5: 2.1410654 | W5: 2.1610275 | X5: 2.1787581 | Y5: 2.1942191 | Z5: 2.2074302 | AA5: 2.2186417 | AB5: 2.2278246 | AC5: 2.2349676 | AD5: 2.2401 | AE5: 2.2432835 | AF5: 2.244591 | AG5: 2.2438686 | AH5: 2.2409774 | AI5: 2.2360286 | AJ5: 2.229153 | AK5: 2.220459 | AL5: 2.2098367 | AM5: 2.1972362 | AN5: 2.1830937 | AO5: 2.1676865
C6: 22BL | D6: Water delivered unmeasured household | E6: Input | F6: Ml/d | G6: 2 | H6: 3.9952074 | I6: 3.9089243 | J6: 3.8477958 | K6: 3.786985 | L6: 3.7027169 | M6: 3.5974625 | N6: 3.515548 | O6: 3.4136571 | P6: 3.3349145 | Q6: 3.2787254 | R6: 3.2026942 | S6: 3.1463607 | T6: 3.0707949 | U6: 2.9963495 | V6: 2.9047861 | W6: 2.8148136 | X6: 2.7266807 | Y6: 2.6404789 | Z6: 2.5562363 | AA6: 2.4741568 | AB6: 2.3940015 | AC6: 2.3157606 | AD6: 2.2394001 | AE6: 2.1649429 | AF6: 2.0922803 | AG6: 2.0214774 | AH6: 1.9525359 | AI6: 1.8854273 | AJ6: 1.8200643 | AK6: 1.7564489 | AL6: 1.6944913 | AM6: 1.6342866 | AN6: 1.5757477 | AO6: 1.5187674
C7: 23BL | D7: Measured Non Household - Consumption | E7: 19BL-34BL | F7: Ml/d | G7: 2 | H7: 3.2534315 | I7: 3.2763531 | J7: 3.2875915 | K7: 3.2923711 | L7: 3.3020668 | M7: 3.3214702 | N7: 3.2932262 | O7: 3.2898048 | P7: 3.2863163 | Q7: 3.2829984 | R7: 3.279751 | S7: 3.276439 | T7: 3.273231 | U7: 3.2700233 | V7: 3.2668462 | W7: 3.2636692 | X7: 3.260491 | Y7: 3.2573109 | Z7: 3.2541284 | AA7: 3.251082 | AB7: 3.2480349 | AC7: 3.244987 | AD7: 3.2419383 | AE7: 3.2388885 | AF7: 3.2358379 | AG7: 3.2327864 | AH7: 3.2297343 | AI7: 3.2266814 | AJ7: 3.223628 | AK7: 3.2206278 | AL7: 3.2176279 | AM7: 3.2146279 | AN7: 3.2116276 | AO7: 3.2086272
C8: 24BL | D8: Unmeasured Non Household - Consumption | E8: 20BL-35BL | F8: Ml/d | G8: 2 | H8: 0.41712213 | I8: 0.40640069 | J8: 0.40127619 | K8: 0.39630532 | L8: 0.39148001 | M8: 0.38680874 | N8: 0.38227572 | O8: 0.37788979 | P8: 0.37363729 | Q8: 0.36951997 | R8: 0.36553609 | S8: 0.36167422 | T8: 0.35793992 | U8: 0.35432371 | V8: 0.3508236 | W8: 0.34743437 | X8: 0.34415252 | Y8: 0.34097465 | Z8: 0.3378975 | AA8: 0.33492189 | AB8: 0.33204078 | AC8: 0.32925117 | AD8: 0.32655018 | AE8: 0.32393498 | AF8: 0.32140287 | AG8: 0.31895122 | AH8: 0.31657749 | AI8: 0.31427919 | AJ8: 0.31205394 | AK8: 0.30989943 | AL8: 0.30781342 | AM8: 0.30579373 | AN8: 0.30383823 | AO8: 0.30194491
C9: 25BL | D9: Measured Household - Consumption | E9: 21BL-36BL | F9: Ml/d | G9: 2 | H9: 1.1885987 | I9: 1.3554107 | J9: 1.413716 | K9: 1.4718689 | L9: 1.5188797 | M9: 1.5527566 | N9: 1.5958719 | O9: 1.6251285 | P9: 1.6647754 | Q9: 1.7163102 | R9: 1.7540472 | S9: 1.8051374 | T9: 1.8415103 | U9: 1.8763713 | V9: 1.8940073 | W9: 1.9092604 | X9: 1.9223423 | Y9: 1.9332248 | Z9: 1.9419405 | AA9: 1.948718 | AB9: 1.9535264 | AC9: 1.9563542 | AD9: 1.9572348 | AE9: 1.956227 | AF9: 1.9534021 | AG9: 1.9486312 | AH9: 1.9418061 | AI9: 1.9330386 | AJ9: 1.9224248 | AK9: 1.9100734 | AL9: 1.895869 | AM9: 1.8798439 | AN9: 1.8623365 | AO9: 1.843531
C10: 26BL | D10: Unmeasured Household - Consumption | E10: 22BL-37BL | F10: Ml/d | G10: 2 | H10: 3.680556 | I10: 3.6066231 | J10: 3.5514867 | K10: 3.4965493 | L10: 3.4180381 | M10: 3.3184265 | N10: 3.2420431 | O10: 3.1455735 | P10: 3.0721447 | Q10: 3.0211643 | R10: 2.9502384 | S10: 2.8989089 | T10: 2.828248 | U10: 2.7586104 | V10: 2.6717594 | W10: 2.5864059 | X10: 2.5028004 | Y10: 2.4210363 | Z10: 2.3411435 | AA10: 2.2633274 | AB10: 2.1873512 | AC10: 2.1132064 | AD10: 2.0408609 | AE10: 1.9703391 | AF10: 1.9015339 | AG10: 1.8345119 | AH10: 1.7692764 | AI10: 1.7058003 | AJ10: 1.6439978 | AK10: 1.5838724 | AL10: 1.5253355 | AM10: 1.4684838 | AN10: 1.4132314 | AO10: 1.3594725
C11: 27 - | D11: Percentage of consumption driven by climate change | E11: Input | F11: % | G11: 1 | H11: 0 | I11: 0.23224683 | J11: 0.26602537 | K11: 0.2995818 | L11: 0.3348729 | M11: 0.35296395 | N11: 0.36669028 | O11: 0.38373817 | P11: 0.399459 | Q11: 0.41361263 | R11: 0.42948364 | S11: 0.44371574 | T11: 0.45981548 | U11: 0.47606866 | V11: 0.49452074 | W11: 0.51380045 | X11: 0.53343792 | Y11: 0.55344141 | Z11: 0.57381925 | AA11: 0.59455413 | AB11: 0.61567249 | AC11: 0.63718776 | AD11: 0.65911262 | AE11: 0.68145261 | AF11: 0.70422393 | AG11: 0.72995611 | AH11: 0.75621437 | AI11: 0.78300874 | AJ11: 0.81035678 | AK11: 0.83827209 | AL11: 0.86679151 | AM11: 0.89592119 | AN11: 0.92564835 | AO11: 0.95597996
C12: 28 - | D12: Volume of consumption driven by climate change | F12: Ml/d | G12: 1 | H12: 0 | I12: 0.020077245 | J12: 0.023022023 | K12: 0.02593508 | L12: 0.028901087 | M12: 0.030282408 | N12: 0.031217873 | O12: 0.032381349 | P12: 0.033542068 | Q12: 0.03470207 | R12: 0.035860048 | S12: 0.037015475 | T12: 0.038168958 | U12: 0.039320076 | V12: 0.040468791 | W12: 0.041652621 | X12: 0.042833925 | Y12: 0.044012687 | Z12: 0.045188897 | AA12: 0.046363624 | AB12: 0.047535785 | AC12: 0.04870535 | AD12: 0.049872311 | AE12: 0.05103664 | AF12: 0.052198323 | AG12: 0.053541411 | AH12: 0.054881459 | AI12: 0.056218458 | AJ12: 0.057552385 | AK12: 0.058884196 | AL12: 0.060212937 | AM12: 0.06153858 | AN12: 0.062861092 | AO12: 0.064180437
B13: PCC and consumption by component | C13: 29BL | D13: Measured Household - PCC | E13: (25BL*1,000,000)/(51BL*1,000) | F13: l/h/d | G13: 1 | H13: 113.68921 | I13: 119.80085 | J13: 120.1686 | K13: 120.48313 | L13: 119.93034 | M13: 118.46382 | N13: 117.83729 | O13: 116.31573 | P13: 115.64382 | Q13: 115.84549 | R13: 115.17002 | S13: 115.42227 | T13: 114.78246 | U13: 114.11894 | V13: 112.4984 | W13: 110.8447 | X13: 109.1727 | Y13: 107.48448 | Z13: 105.77352 | AA13: 104.05655 | AB13: 102.32856 | AC13: 100.58892 | AD13: 98.837088 | AE13: 97.075154 | AF13: 95.309477 | AG13: 93.532249 | AH13: 91.736128 | AI13: 89.92115 | AJ13: 88.10166 | AK13: 86.268401 | AL13: 84.437632 | AM13: 82.577814 | AN13: 80.715372 | AO13: 78.878458
C14: 29.1BL | D14: Measured toilet flushing | E14: Input | F14: l/h/d | G14: 1 | H14: 28.148056 | I14: 29.661223 | J14: 29.752275 | K14: 29.830148 | L14: 29.693282 | M14: 29.33019 | N14: 29.17507 | O14: 28.798351 | P14: 28.631993 | Q14: 28.681925 | R14: 28.514686 | S14: 28.577141 | T14: 28.418733 | U14: 28.254452 | V14: 27.853226 | W14: 27.44379 | X14: 27.029824 | Y14: 26.611842 | Z14: 26.188228 | AA14: 25.763128 | AB14: 25.335298 | AC14: 24.904586 | AD14: 24.470853 | AE14: 24.034619 | AF14: 23.597459 | AG14: 23.157439 | AH14: 22.712742 | AI14: 22.263376 | AJ14: 21.812892 | AK14: 21.359 | AL14: 20.905724 | AM14: 20.445256 | AN14: 19.984138 | AO14: 19.52934
C15: 29.2BL | D15: Measured personal washing | E15: Input | F15: l/h/d | G15: 1 | H15: 43.712408 | I15: 46.062275 | J15: 46.203673 | K15: 46.324605 | L15: 46.112061 | M15: 45.548198 | N15: 45.307304 | O15: 44.722281 | P15: 44.463936 | Q15: 44.541477 | R15: 44.281764 | S15: 44.378753 | T15: 44.132754 | U15: 43.877635 | V15: 43.254552 | W15: 42.618721 | X15: 41.975854 | Y15: 41.32675 | Z15: 40.6689 | AA15: 40.008744 | AB15: 39.344346 | AC15: 38.675474 | AD15: 38.00191 | AE15: 37.324463 | AF15: 36.645577 | AG15: 35.96225 | AH15: 35.271659 | AI15: 34.573817 | AJ15: 33.874241 | AK15: 33.169371 | AL15: 32.465457 | AM15: 31.750375 | AN15: 31.034284 | AO15: 30.328009
C16: 29.3BL | D16: Measured clothes washing | E16: Input | F16: l/h/d | G16: 1 | H16: 13.817086 | I16: 14.559857 | J16: 14.604552 | K16: 14.642778 | L16: 14.575594 | M16: 14.397362 | N16: 14.321218 | O16: 14.136298 | P16: 14.054637 | Q16: 14.079147 | R16: 13.997054 | S16: 14.027712 | T16: 13.949954 | U16: 13.869313 | V16: 13.672362 | W16: 13.471382 | X16: 13.268178 | Y16: 13.063002 | Z16: 12.855062 | AA16: 12.646393 | AB16: 12.436383 | AC16: 12.224958 | AD16: 12.012051 | AE16: 11.797916 | AF16: 11.583327 | AG16: 11.367333 | AH16: 11.149044 | AI16: 10.928463 | AJ16: 10.707333 | AK16: 10.48453 | AL16: 10.26203 | AM16: 10.035999 | AN16: 9.8096491 | AO16: 9.5864019
C17: 29.4BL | D17: Measured dish washing | E17: Input | F17: l/h/d | G17: 1 | H17: 10.63904 | I17: 11.210967 | J17: 11.245381 | K17: 11.274815 | L17: 11.223084 | M17: 11.085847 | N17: 11.027217 | O17: 10.88483 | P17: 10.821952 | Q17: 10.840824 | R17: 10.777613 | S17: 10.801219 | T17: 10.741346 | U17: 10.679254 | V17: 10.527603 | W17: 10.37285 | X17: 10.216385 | Y17: 10.058401 | Z17: 9.8982888 | AA17: 9.7376153 | AB17: 9.5759093 | AC17: 9.4131144 | AD17: 9.2491775 | AE17: 9.0842958 | AF17: 8.9190636 | AG17: 8.7527506 | AH17: 8.5846696 | AI17: 8.4148238 | AJ17: 8.2445559 | AK17: 8.0729995 | AL17: 7.901676 | AM17: 7.7276342 | AN17: 7.5533469 | AO17: 7.3814484
C18: 29.5BL | D18: Measured miscellaneous internal use | E18: Input | F18: l/h/d | G18: 1 | H18: 15.645319 | I18: 16.486371 | J18: 16.53698 | K18: 16.580263 | L18: 16.50419 | M18: 16.302375 | N18: 16.216156 | O18: 16.006767 | P18: 15.914302 | Q18: 15.942055 | R18: 15.8491 | S18: 15.883814 | T18: 15.795767 | U18: 15.704456 | V18: 15.481446 | W18: 15.253872 | X18: 15.023781 | Y18: 14.791457 | Z18: 14.556002 | AA18: 14.319723 | AB18: 14.081925 | AC18: 13.842526 | AD18: 13.601447 | AE18: 13.358979 | AF18: 13.115995 | AG18: 12.871423 | AH18: 12.62425 | AI18: 12.374482 | AJ18: 12.124093 | AK18: 11.87181 | AL18: 11.619869 | AM18: 11.36393 | AN18: 11.107631 | AO18: 10.854844
C19: 29.6BL | D19: Measured external use | E19: Input | F19: l/h/d | G19: 1 | H19: 1.727301 | I19: 1.8201562 | J19: 1.8257436 | K19: 1.8305223 | L19: 1.8221235 | M19: 1.7998424 | N19: 1.7903235 | O19: 1.7672062 | P19: 1.7569977 | Q19: 1.7600617 | R19: 1.7497991 | S19: 1.7536317 | T19: 1.743911 | U19: 1.7338299 | V19: 1.7092088 | W19: 1.6840838 | X19: 1.6586808 | Y19: 1.6330314 | Z19: 1.6070364 | AA19: 1.5809503 | AB19: 1.5546965 | AC19: 1.5282659 | AD19: 1.50165 | AE19: 1.4748806 | AF19: 1.4480543 | AG19: 1.4210526 | AH19: 1.3937638 | AI19: 1.3661885 | AJ19: 1.3385446 | AK19: 1.3106916 | AL19: 1.2828764 | AM19: 1.2546198 | AN19: 1.2263234 | AO19: 1.1984148
C20: 30BL | D20: Unmeasured Household - PCC | E20: (26BL*1,000,000)/(52BL*1,000) | F20: l/h/d | G20: 1 | H20: 160.32989 | I20: 162.20572 | J20: 162.56295 | K20: 162.87873 | L20: 162.0761 | M20: 160.19256 | N20: 159.34756 | O20: 157.42047 | P20: 156.55096 | Q20: 156.7718 | R20: 155.9058 | S20: 156.01817 | T20: 155.02807 | U20: 154.00938 | V20: 151.92487 | W20: 149.79875 | X20: 147.646 | Y20: 145.47338 | Z20: 143.27918 | AA20: 141.08383 | AB20: 138.87359 | AC20: 136.65029 | AD20: 134.41305 | AE20: 132.16613 | AF20: 129.90628 | AG20: 127.63757 | AH20: 125.36008 | AI20: 123.07355 | AJ20: 120.78294 | AK20: 118.48651 | AL20: 116.189 | AM20: 113.88276 | AN20: 111.57427 | AO20: 109.27166
C21: 30.1BL | D21: Unmeasured toilet flushing | E21: Input | F21: l/h/d | G21: 1 | H21: 35.065037 | I21: 35.475291 | J21: 35.553419 | K21: 35.622483 | L21: 35.446943 | M21: 35.035002 | N21: 34.850196 | O21: 34.42873 | P21: 34.238564 | Q21: 34.286862 | R21: 34.097463 | S21: 34.12204 | T21: 33.905499 | U21: 33.682706 | V21: 33.226812 | W21: 32.761818 | X21: 32.290999 | Y21: 31.815835 | Z21: 31.335951 | AA21: 30.855816 | AB21: 30.372425 | AC21: 29.886178 | AD21: 29.39688 | AE21: 28.905465 | AF21: 28.411225 | AG21: 27.915045 | AH21: 27.416945 | AI21: 26.916869 | AJ21: 26.4159 | AK21: 25.913656 | AL21: 25.41118 | AM21: 24.906791 | AN21: 24.401913 | AO21: 23.898318
C22: 30.2BL | D22: Unmeasured personal washing | E22: Input | F22: l/h/d | G22: 1 | H22: 68.170919 | I22: 68.968505 | J22: 69.120396 | K22: 69.254666 | L22: 68.913393 | M22: 68.112529 | N22: 67.753241 | O22: 66.933858 | P22: 66.564151 | Q22: 66.658047 | R22: 66.289831 | S22: 66.337613 | T22: 65.91663 | U22: 65.483492 | V22: 64.597176 | W22: 63.693168 | X22: 62.777835 | Y22: 61.854055 | Z22: 60.921098 | AA22: 59.987654 | AB22: 59.047881 | AC22: 58.102554 | AD22: 57.151297 | AE22: 56.195923 | AF22: 55.235057 | AG22: 54.270421 | AH22: 53.302051 | AI22: 52.329837 | AJ22: 51.35589 | AK22: 50.379464 | AL22: 49.402585 | AM22: 48.421989 | AN22: 47.440442 | AO22: 46.461389
C23: 30.3BL | D23: Unmeasured clothes washing | E23: Input | F23: l/h/d | G23: 1 | H23: 19.197469 | I23: 19.422075 | J23: 19.464849 | K23: 19.50266 | L23: 19.406555 | M23: 19.181026 | N23: 19.079847 | O23: 18.849103 | P23: 18.74499 | Q23: 18.771432 | R23: 18.66774 | S23: 18.681195 | T23: 18.562643 | U23: 18.440668 | V23: 18.191074 | W23: 17.936499 | X23: 17.678734 | Y23: 17.41859 | Z23: 17.155862 | AA23: 16.892997 | AB23: 16.628349 | AC23: 16.362138 | AD23: 16.094256 | AE23: 15.825215 | AF23: 15.554628 | AG23: 15.282979 | AH23: 15.010278 | AI23: 14.736495 | AJ23: 14.462224 | AK23: 14.187255 | AL23: 13.912158 | AM23: 13.636014 | AN23: 13.359603 | AO23: 13.083894
C24: 30.4BL | D24: Unmeasured dish washing | E24: Input | F24: l/h/d | G24: 1 | H24: 15.275944 | I24: 15.45467 | J24: 15.488706 | K24: 15.518793 | L24: 15.44232 | M24: 15.26286 | N24: 15.18235 | O24: 14.99874 | P24: 14.915895 | Q24: 14.936935 | R24: 14.854424 | S24: 14.865132 | T24: 14.770796 | U24: 14.673737 | V24: 14.475129 | W24: 14.272556 | X24: 14.067446 | Y24: 13.860442 | Z24: 13.651383 | AA24: 13.442214 | AB24: 13.231626 | AC24: 13.019795 | AD24: 12.806634 | AE24: 12.592551 | AF24: 12.377237 | AG24: 12.161079 | AH24: 11.944084 | AI24: 11.726227 | AJ24: 11.507982 | AK24: 11.289182 | AL24: 11.07028 | AM24: 10.850545 | AN24: 10.630597 | AO24: 10.411208
C25: 30.5BL | D25: Unmeasured miscellaneous internal use | E25: Input | F25: l/h/d | G25: 1 | H25: 20.973602 | I25: 21.218989 | J25: 21.26572 | K25: 21.30703 | L25: 21.202033 | M25: 20.955638 | N25: 20.845098 | O25: 20.593005 | P25: 20.47926 | Q25: 20.508149 | R25: 20.394863 | S25: 20.409563 | T25: 20.280043 | U25: 20.146783 | V25: 19.874097 | W25: 19.595968 | X25: 19.314355 | Y25: 19.030143 | Z25: 18.743108 | AA25: 18.455922 | AB25: 18.16679 | AC25: 17.875949 | AD25: 17.583283 | AE25: 17.289351 | AF25: 16.993729 | AG25: 16.696947 | AH25: 16.399016 | AI25: 16.099903 | AJ25: 15.800256 | AK25: 15.499847 | AL25: 15.199299 | AM25: 14.897606 | AN25: 14.595622 | AO25: 14.294404
... C29: 33BL | D29: Distribution System Operational Use | E29: Input | F29: Ml/d | G29: 2 | H29: 0.10582608 | I29: 0.10629869 | J29: 0.1066002 | K29: 0.10690997 | L29: 0.10724988 | M29: 0.1075803 | N29: 0.10790532 | O29: 0.10822014 | P29: 0.10853275 | Q29: 0.10885169 | R29: 0.10917594 | S29: 0.10949953 | T29: 0.10982624 | U29: 0.11015438 | V29: 0.11048454 | W29: 0.1108164 | X29: 0.11115027 | Y29: 0.11148342 | Z29: 0.11181232 | AA29: 0.11214338 | AB29: 0.11247536 | AC29: 0.11280803 | AD29: 0.11314011 | AE29: 0.11347197 | AF29: 0.11380374 | AG29: 0.11412901 | AH29: 0.11444008 | AI29: 0.11473648 | AJ29: 0.11502643 | AK29: 0.11530957 | AL29: 0.11558694 | AM29: 0.11583837 | AN29: 0.1160873 | AO29: 0.11635628
B30: Leakage | C30: 34BL | D30: Measured Non Household - USPL | E30: Input | F30: Ml/d | G30: 2 | H30: 0.05270325 | I30: 0.053089968 | J30: 0.053269263 | K30: 0.05344037 | L30: 0.053604028 | M30: 0.053760878 | N30: 0.053911482 | O30: 0.054056333 | P30: 0.054195868 | Q30: 0.054330477 | R30: 0.054460507 | S30: 0.054586268 | T30: 0.05470804 | U30: 0.054826078 | V30: 0.054940611 | W30: 0.055051848 | X30: 0.055159978 | Y30: 0.055265177 | Z30: 0.055367605 | AA30: 0.055467408 | AB30: 0.055564723 | AC30: 0.055659673 | AD30: 0.055752376 | AE30: 0.055842938 | AF30: 0.055931459 | AG30: 0.056018033 | AH30: 0.056102746 | AI30: 0.056185679 | AJ30: 0.056266907 | AK30: 0.056346502 | AL30: 0.056424531 | AM30: 0.056501055 | AN30: 0.056576134 | AO30: 0.056649823
C31: 35BL | D31: Unmeasured Non Household - USPL | E31: Input | F31: Ml/d | G31: 2 | H31: 0.011459639 | I31: 0.01075925 | J31: 0.010425276 | K31: 0.010101668 | L31: 0.0097881054 | M31: 0.0094842758 | N31: 0.0091898774 | O31: 0.0089046172 | P31: 0.0086282117 | Q31: 0.0083603861 | R31: 0.0081008739 | S31: 0.0078494172 | T31: 0.0076057659 | U31: 0.0073696776 | V31: 0.0071409177 | W31: 0.0069192587 | X31: 0.0067044801 | Y31: 0.0064963684 | Z31: 0.0062947167 | AA31: 0.0060993243 | AB31: 0.0059099971 | AC31: 0.0057265467 | AD31: 0.0055487907 | AE31: 0.0053765524 | AF31: 0.0052096605 | AG31: 0.005047949 | AH31: 0.0048912572 | AI31: 0.0047394292 | AJ31: 0.0045923141 | AK31: 0.0044497655 | AL31: 0.0043116417 | AM31: 0.0041778053 | AN31: 0.0040481234 | AO31: 0.0039224668
C32: 36BL | D32: Measured Household - USPL | E32: Input | F32: Ml/d | G32: 2 | H32: 0.16826366 | I32: 0.17941162 | J32: 0.18501613 | K32: 0.19056988 | L32: 0.19616965 | M32: 0.20164076 | N32: 0.20701503 | O32: 0.21225955 | P32: 0.21741997 | Q32: 0.22252603 | R32: 0.22757226 | S32: 0.23254474 | T32: 0.2374488 | U32: 0.24228602 | V32: 0.24705805 | W32: 0.25176707 | X32: 0.25641574 | Y32: 0.26099433 | Z32: 0.26548963 | AA32: 0.26992372 | AB32: 0.27429822 | AC32: 0.27861338 | AD32: 0.28286526 | AE32: 0.28705652 | AF32: 0.29118893 | AG32: 0.29523737 | AH32: 0.29917129 | AI32: 0.30298995 | AJ32: 0.30672821 | AK32: 0.31038567 | AL32: 0.31396763 | AM32: 0.31739237 | AN32: 0.32075715 | AO32: 0.32415555
C33: 37BL | D33: Unmeasured Household - USPL | E33: Input | F33: Ml/d | G33: 2 | H33: 0.31465146 | I33: 0.30230121 | J33: 0.29630907 | K33: 0.29043571 | L33: 0.28467877 | M33: 0.27903594 | N33: 0.27350496 | O33: 0.26808362 | P33: 0.26276974 | Q33: 0.25756118 | R33: 0.25245587 | S33: 0.24745176 | T33: 0.24254683 | U33: 0.23773913 | V33: 0.23302673 | W33: 0.22840773 | X33: 0.22388029 | Y33: 0.2194426 | Z33: 0.21509286 | AA33: 0.21082935 | AB33: 0.20665034 | AC33: 0.20255417 | AD33: 0.1985392 | AE33: 0.1946038 | AF33: 0.19074642 | AG33: 0.18696549 | AH33: 0.18325951 | AI33: 0.17962699 | AJ33: 0.17606647 | AK33: 0.17257652 | AL33: 0.16915576 | AM33: 0.16580279 | AN33: 0.16251629 | AO33: 0.15929494
C34: 38BL | D34: Void Properties - USPL | E34: Input | F34: Ml/d | G34: 2 | H34: 0.043112341 | I34: 0.042324797 | J34: 0.042132688 | K34: 0.041947401 | L34: 0.041773615 | M34: 0.041602556 | N34: 0.041435668 | O34: 0.041271183 | P34: 0.041111218 | Q34: 0.040957101 | R34: 0.040808413 | S34: 0.040664316 | T34: 0.040524924 | U34: 0.040390165 | V34: 0.040259971 | W34: 0.040134303 | X34: 0.040013144 | Y34: 0.039895866 | Z34: 0.03978167 | AA34: 0.039671508 | AB34: 0.039565318 | AC34: 0.039462973 | AD34: 0.039364141 | AE34: 0.039268819 | AF34: 0.039176962 | AG34: 0.039087195 | AH34: 0.038997877 | AI34: 0.038908846 | AJ34: 0.038821703 | AK34: 0.038736307 | AL34: 0.038652802 | AM34: 0.038567023 | AN34: 0.038483671 | AO34: 0.038407269
C35: 39BL | D35: Distribution Losses | E35: Input | F35: Ml/d | G35: 2 | H35: 2.3562673 | I35: 2.4771163 | J35: 2.4778507 | K35: 2.4625096 | L35: 2.3457781 | M35: 2.2290556 | N35: 2.1123106 | O35: 1.99558 | P35: 1.878818 | Q35: 1.8103143 | R35: 1.7417581 | S35: 1.673166 | T35: 1.621758 | U35: 1.5703112 | V35: 1.5016024 | W35: 1.432855 | X35: 1.3640681 | Y35: 1.2952538 | Z35: 1.2264282 | AA35: 1.1920166 | AB35: 1.1575726 | AC35: 1.1230977 | AD35: 1.0885979 | AE35: 1.0540723 | AF35: 1.0195207 | AG35: 0.98497134 | AH35: 0.95045795 | AI35: 0.91598298 | AJ35: 0.88151152 | AK35: 0.8470456 | AL35: 0.81258124 | AM35: 0.77820581 | AN35: 0.74381872 | AO35: 0.70932329
C36: 40BL | D36: Total Leakage | E36: sum(34BL:39BL) | F36: Ml/d | G36: 2 | H36: 2.9464576 | I36: 3.0650032 | J36: 3.0650032 | K36: 3.0490046 | L36: 2.9317923 | M36: 2.81458 | N36: 2.6973677 | O36: 2.5801553 | P36: 2.462943 | Q36: 2.3940495 | R36: 2.325156 | S36: 2.2562625 | T36: 2.2045924 | U36: 2.1529222 | V36: 2.0840287 | W36: 2.0151352 | X36: 1.9462417 | Y36: 1.8773482 | Z36: 1.8084547 | AA36: 1.7740079 | AB36: 1.7395612 | AC36: 1.7051144 | AD36: 1.6706677 | AE36: 1.6362209 | AF36: 1.6017741 | AG36: 1.5673274 | AH36: 1.5328806 | AI36: 1.4984339 | AJ36: 1.4639871 | AK36: 1.4295404 | AL36: 1.3950936 | AM36: 1.3606469 | AN36: 1.3262001 | AO36: 1.2917533
C37: 41BL | D37: Total Leakage | E37: (40BL*1,000,000)/(48BL*1,000) | F37: l/prop/d | G37: 2 | H37: 147.68516 | I37: 152.9476 | J37: 152.51599 | K37: 151.28037 | L37: 145.00112 | M37: 138.77566 | N37: 132.59255 | O37: 126.46059 | P37: 120.36543 | Q37: 116.65376 | R37: 112.95957 | S37: 109.28684 | T37: 106.46629 | U37: 103.66114 | V37: 100.04448 | W37: 96.447878 | X37: 92.871061 | Y37: 89.316206 | Z37: 85.785767 | AA37: 83.904634 | AB37: 82.03387 | AC37: 80.173605 | AD37: 78.32465 | AE37: 76.486644 | AF37: 74.659387 | AG37: 72.846867 | AH37: 71.053444 | AI37: 69.278566 | AJ37: 67.51659 | AK37: 65.767327 | AL37: 64.029802 | AM37: 62.314512 | AN37: 60.607922 | AO37: 58.898449
B38: Customer: Properties | C38: 42BL | D38: Measured non-households - properties | E38: Input (total, excluding voids) | F38: 000's | G38: 2 | H38: 2.398322 | I38: 2.4159201 | J38: 2.4240791 | K38: 2.4318656 | L38: 2.439313 | M38: 2.4464506 | N38: 2.453304 | O38: 2.4598956 | P38: 2.4662454 | Q38: 2.4723709 | R38: 2.478288 | S38: 2.4840109 | T38: 2.4895524 | U38: 2.4949238 | V38: 2.5001357 | W38: 2.5051977 | X38: 2.5101183 | Y38: 2.5149055 | Z38: 2.5195666 | AA38: 2.5241083 | AB38: 2.5285367 | AC38: 2.5328575 | AD38: 2.537076 | AE38: 2.5411972 | AF38: 2.5452254 | AG38: 2.5491651 | AH38: 2.55302 | AI38: 2.556794 | AJ38: 2.5604904 | AK38: 2.5641125 | AL38: 2.5676632 | AM38: 2.5711456 | AN38: 2.5745621 | AO38: 2.5779154
C39: 43BL | D39: Unmeasured non-households - properties | E39: Input (total, excluding voids) | F39: 000's | G39: 2 | H39: 0.32958723 | I39: 0.30944357 | J39: 0.29983823 | K39: 0.29053104 | L39: 0.28151276 | M39: 0.27277441 | N39: 0.2643073 | O39: 0.25610302 | P39: 0.2481534 | Q39: 0.24045055 | R39: 0.2329868 | S39: 0.22575473 | T39: 0.21874714 | U39: 0.21195708 | V39: 0.20537779 | W39: 0.19900272 | X39: 0.19282554 | Y39: 0.1868401 | Z39: 0.18104045 | AA39: 0.17542083 | AB39: 0.16997565 | AC39: 0.16469949 | AD39: 0.1595871 | AE39: 0.15463341 | AF39: 0.14983348 | AG39: 0.14518254 | AH39: 0.14067598 | AI39: 0.1363093 | AJ39: 0.13207816 | AK39: 0.12797837 | AL39: 0.12400583 | AM39: 0.1201566 | AN39: 0.11642686 | AO39: 0.11281289
C40: 44BL | D40: All void non-households - properties | E40: Input (voids in each year) | F40: 000's | G40: 2 | H40: 0.27482426 | I40: 0.27165172 | J40: 0.27011962 | K40: 0.26862519 | L40: 0.26716906 | M40: 0.26575162 | N40: 0.26437296 | O40: 0.26303303 | P40: 0.26173161 | Q40: 0.26046833 | R40: 0.25924274 | S40: 0.25805433 | T40: 0.25690248 | U40: 0.25578656 | V40: 0.25470588 | W40: 0.25365972 | X40: 0.25264734 | Y40: 0.25166799 | Z40: 0.25072091 | AA40: 0.24980532 | AB40: 0.24892046 | AC40: 0.24806554 | AD40: 0.2472398 | AE40: 0.24644247 | AF40: 0.2456728 | AG40: 0.24493005 | AH40: 0.24421347 | AI40: 0.24352234 | AJ40: 0.24285595 | AK40: 0.2422136 | AL40: 0.2415946 | AM40: 0.24099829 | AN40: 0.24042399 | AO40: 0.23987107
C41: 45BL | D41: Total measured households - properties (excl void) | E41: Pre-plan year = input. Forecast years = Previous year 45BL + sum(45.1BL:45.6BL) | F41: 000's | G41: 2 | H41: 6.9821028 | I41: 7.4515519 | J41: 7.68827 | K41: 7.9231197 | L41: 8.1604002 | M41: 8.3923044 | N41: 8.6202365 | O41: 8.8427151 | P41: 9.0617632 | Q41: 9.2786964 | R41: 9.4932583 | S41: 9.7048184 | T41: 9.9136036 | U41: 10.119675 | V41: 10.323098 | W41: 10.52396 | X41: 10.722372 | Y41: 10.917892 | Z41: 11.109924 | AA41: 11.299446 | AB41: 11.486522 | AC41: 11.671157 | AD41: 11.85317 | AE41: 12.032674 | AF41: 12.20974 | AG41: 12.383244 | AH41: 12.551817 | AI41: 12.715421 | AJ41: 12.875606 | AK41: 13.032349 | AL41: 13.185884 | AM41: 13.332558 | AN41: 13.476707 | AO41: 13.622502
C42: 45.1BL | D42: New build properties - properties | E42: Input (new builds in each year) | F42: 000's | G42: 2 | H42: 0.038577192 | I42: 0.069258339 | J42: 0.063186429 | K42: 0.064757742 | L42: 0.070560102 | M42: 0.068488477 | N42: 0.067755555 | O42: 0.065477018 | P42: 0.065158616 | Q42: 0.066094006 | R42: 0.066712625 | S42: 0.066641488 | T42: 0.066739128 | U42: 0.06684124 | V42: 0.066951539 | W42: 0.067096677 | X42: 0.067298108 | Y42: 0.067005085 | Z42: 0.066063929 | AA42: 0.066050481 | AB42: 0.066052655 | AC42: 0.066010565 | AD42: 0.065740113 | AE42: 0.065534688 | AF42: 0.06535707 | AG42: 0.064008572 | AH42: 0.061247775 | AI42: 0.058406599 | AJ42: 0.057072835 | AK42: 0.055675093 | AL42: 0.054469204 | AM42: 0.04957272 | AN42: 0.048972761 | AO42: 0.052504737
C43: 45.2BL | D43: Meter optants - properties | E43: Input (meter optants in each year) | F43: 000's | G43: 2 | H43: 0.14613879 | I43: 0.16286815 | J43: 0.15963982 | K43: 0.15647548 | L43: 0.15337387 | M43: 0.15033373 | N43: 0.14735385 | O43: 0.14443304 | P43: 0.14157013 | Q43: 0.13876396 | R43: 0.13601342 | S43: 0.1333174 | T43: 0.13067481 | U43: 0.12808461 | V43: 0.12554575 | W43: 0.12305722 | X43: 0.12061801 | Y43: 0.11822715 | Z43: 0.11588368 | AA43: 0.11358667 | AB43: 0.11133518 | AC43: 0.10912832 | AD43: 0.10696521 | AE43: 0.10484497 | AF43: 0.10276676 | AG43: 0.10072975 | AH43: 0.098733108 | AI43: 0.096776046 | AJ43: 0.094857776 | AK43: 0.09297753 | AL43: 0.091134553 | AM43: 0.089328108 | AN43: 0.087557469 | AO43: 0.085821928
...

Sheet 4. BL SDB
C1: Table 4: Baseline supply demand balance
C2: Row ref | D2: Component | E2: Derivation | F2: Unit | G2: Decimal places | H2: ='TITLE PAGE'!D14 -> 2015-16 | I2: ='WRZ summary'!E5 -> For info 2017-18 | J2: ='WRZ summary'!F5 -> For info 2018-19 | K2: ='WRZ summary'!G5 -> For info 2019-20 | L2: ='WRZ summary'!H5 -> 2020-21 | M2: ='WRZ summary'!I5 -> 2021-22 | N2: ='WRZ summary'!J5 -> 2022-23 | O2: ='WRZ summary'!K5 -> 2023-24 | P2: ='WRZ summary'!L5 -> 2024-25 | ... AO2: ='WRZ summary'!AK5 -> 2049-50
B3: SDB | C3: 11BL | D3: Distribution input | E3: 19BL+20BL+21BL+22BL+32BL+33BL+38BL+39BL | F3: Ml/d | G3: 2 | H3: =SUM('3. BL Demand'!H3:H6,'3. BL Demand'!H28:H29,'3. BL Demand'!H34:H35) -> 11.762183 | I3: =SUM('3. BL Demand'!I3:I6,'3. BL Demand'!I28:I29,'3. BL Demand'!I34:I35) -> 11.987041 | J3: =SUM('3. BL Demand'!J3:J6,'3. BL Demand'!J28:J29,'3. BL Demand'!J34:J35) -> 11.99711 | K3: =SUM('3. BL Demand'!K3:K6,'3. BL Demand'!K28:K29,'3. BL Demand'!K34:K35) -> 11.984943 | L3: =SUM('3. BL Demand'!L3:L6,'3. BL Demand'!L28:L29,'3. BL Demand'!L34:L35) -> 11.841988 | M3: =SUM('3. BL Demand'!M3:M6,'3. BL Demand'!M28:M29,'3. BL Demand'!M34:M35) -> 11.674635 | N3: =SUM('3. BL Demand'!N3:N6,'3. BL Demand'!N28:N29,'3. BL Demand'!N34:N35) -> 11.492225 | O3: =SUM('3. BL Demand'!O3:O6,'3. BL Demand'!O28:O29,'3. BL Demand'!O34:O35) -> 11.300813 | ... AO3: =SUM('3. BL Demand'!AO3:AO6,'3. BL Demand'!AO28:AO29,'3. BL Demand'!AO34:AO35) -> 8.3088111
C4: 12BL | D4: Water Available For Use (own sources) | E4: (7BL+8BL)-(9BL+10BL) | F4: Ml/d | G4: 2 | H4: =('2. BL Supply'!H17+'2. BL Supply'!H18)-('2. BL Supply'!H24+'2. BL Supply'!H25) -> 16.84183 | I4: =('2. BL Supply'!I17+'2. BL Supply'!I18)-('2. BL Supply'!I24+'2. BL Supply'!I25) -> 16.154408 | J4: =('2. BL Supply'!J17+'2. BL Supply'!J18)-('2. BL Supply'!J24+'2. BL Supply'!J25) -> 16.124607 | K4: =('2. BL Supply'!K17+'2. BL Supply'!K18)-('2. BL Supply'!K24+'2. BL Supply'!K25) -> 16.094805 | L4: =('2. BL Supply'!L17+'2. BL Supply'!L18)-('2. BL Supply'!L24+'2. BL Supply'!L25) -> 16.065003 | M4: =('2. BL Supply'!M17+'2. BL Supply'!M18)-('2. BL Supply'!M24+'2. BL Supply'!M25) -> 16.035202 | N4: =('2. BL Supply'!N17+'2. BL Supply'!N18)-('2. BL Supply'!N24+'2. BL Supply'!N25) -> 16.0054 | O4: =('2. BL Supply'!O17+'2. BL Supply'!O18)-('2. BL Supply'!O24+'2. BL Supply'!O25) -> 15.975598 | ... AO4: =('2. BL Supply'!AO17+'2. BL Supply'!AO18)-('2. BL Supply'!AO24+'2. BL Supply'!AO25) -> 15.632879
C5: 13BL | D5: Total Water Available For Use | E5: 12BL+(2BL+3BL)-(5BL+6BL) | F5: Ml/d | G5: 2 | H5: =H4+('2. BL Supply'!H4+'2. BL Supply'!H7)-('2. BL Supply'!H10+'2. BL Supply'!H14) -> 16.77906 | I5: =I4+('2. BL Supply'!I4+'2. BL Supply'!I7)-('2. BL Supply'!I10+'2. BL Supply'!I14) -> 15.807661 | J5: =J4+('2. BL Supply'!J4+'2. BL Supply'!J7)-('2. BL Supply'!J10+'2. BL Supply'!J14) -> 15.769353 | K5: =K4+('2. BL Supply'!K4+'2. BL Supply'!K7)-('2. BL Supply'!K10+'2. BL Supply'!K14) -> 15.734286 | L5: =L4+('2. BL Supply'!L4+'2. BL Supply'!L7)-('2. BL Supply'!L10+'2. BL Supply'!L14) -> 15.712157 | M5: =M4+('2. BL Supply'!M4+'2. BL Supply'!M7)-('2. BL Supply'!M10+'2. BL Supply'!M14) -> 15.689468 | N5: =N4+('2. BL Supply'!N4+'2. BL Supply'!N7)-('2. BL Supply'!N10+'2. BL Supply'!N14) -> 15.674239 | O5: =O4+('2. BL Supply'!O4+'2. BL Supply'!O7)-('2. BL Supply'!O10+'2. BL Supply'!O14) -> 15.656861 | ... AO5: =AO4+('2. BL Supply'!AO4+'2. BL Supply'!AO7)-('2. BL Supply'!AO10+'2. BL Supply'!AO14) -> 15.573489
C6: 14BL | D6: Target headroom (climate change component) | E6: Input | F6: Ml/d | G6: 2 | H6: 0.0016218053 | I6: 0.078302179 | J6: 0.15615956 | K6: 0.23395658 | L6: 0.31169399 | M6: 0.38942832 | N6: 0.46703989 | O6: 0.5450978 | P6: 0.62293765 | Q6: 0.68484762 | R6: 0.76108268 | S6: 0.83740918 | T6: 0.91405558 | U6: 0.99088249 | V6: 0.95207966 | W6: 0.96975827 | X6: 0.9875793 | Y6: 1.0055833 | Z6: 1.022242 | AA6: 1.0137306 | AB6: 1.0303001 | AC6: 1.0463912 | AD6: 1.0636678 | AE6: 1.0810283 | AF6: 1.0075934 | AG6: 1.0230022 | AH6: 1.0394762 | AI6: 1.0554017 | AJ6: 1.0705115 | AK6: 1.0862181 | AL6: 1.1009925 | AM6: 1.1166453 | AN6: 1.1322466 | AO6: 1.1465493
C7: 15BL | D7: Target headroom (All other components) | E7: Input | F7: Ml/d | G7: 2 | H7: 0.70020682 | I7: 0.71552839 | J7: 0.71921669 | K7: 0.73139823 | L7: 0.73579891 | M7: 0.74635377 | N7: 0.7478124 | O7: 0.74624379 | P7: 0.75071707 | Q7: 0.60632112 | R7: 0.6103172 | S7: 0.61557236 | T7: 0.61547678 | U7: 0.62124786 | V7: 0.52200329 | W7: 0.55192865 | X7: 0.57921107 | Y7: 0.60932142 | Z7: 0.64181771 | AA7: 0.58070757 | AB7: 0.61427749 | AC7: 0.6409094 | AD7: 0.67705297 | AE7: 0.70941093 | AF7: 0.65749053 | AG7: 0.68542085 | AH7: 0.7226318 | AI7: 0.76172505 | AJ7: 0.80105924 | AK7: 0.82801771 | AL7: 0.86050501 | AM7: 0.89144624 | AN7: 0.93045142 | AO7: 0.96701407
